BEGIN:VCALENDAR
VERSION:2.0
PRODID:-//ChamberMaster//Event Calendar 2.0//EN
METHOD:PUBLISH
X-PUBLISHED-TTL:P3D
REFRESH-INTERVAL:P3D
CALSCALE:GREGORIAN
BEGIN:VEVENT
DTSTART:20230204T190000Z
DTEND:20230204T210000Z
X-MICROSOFT-CDO-ALLDAYEVENT:FALSE
SUMMARY:Writing While Recovering
DESCRIPTION:Learn the benefits of writing for overall wellness and mental health
X-ALT-DESC;FMTTYPE=text/html:Learn the benefits of writing for overall wellness and mental health
LOCATION:Main Street Gallery 325 N. Main St. Lakeport
UID:e.2411.15841
SEQUENCE:3
DTSTAMP:20260425T001722Z
URL:http://lakecodev.chambermaster.com/events/details/writing-while-recovering-15841
END:VEVENT

END:VCALENDAR
