BEGIN:VCALENDAR
VERSION:2.0
PRODID:-//ChamberMaster//Event Calendar 2.0//EN
METHOD:PUBLISH
X-PUBLISHED-TTL:P3D
REFRESH-INTERVAL:P3D
CALSCALE:GREGORIAN
BEGIN:VEVENT
DTSTART:20220207T210000Z
DTEND:20220207T230000Z
X-MICROSOFT-CDO-ALLDAYEVENT:FALSE
SUMMARY:Write It Down
DESCRIPTION:This free workshop is open to all and invites writers to share their emotions by writing them down. Instructor for this workshop is Richard Schmidt\, Poet Laureate 2020-2022 All materials will be provided.
X-ALT-DESC;FMTTYPE=text/html:This free workshop is open to all and invites writers to share their emotions by writing them down. Instructor for this workshop is Richard Schmidt\, Poet Laureate 2020-2022 All materials will be provided.
LOCATION:Circle of Native Minds Forbes St. (between 3rd & 4th St. Lakeport
UID:e.2411.13931
SEQUENCE:3
DTSTAMP:20260423T235026Z
URL:http://lakecodev.chambermaster.com/events/details/write-it-down-13931
END:VEVENT

END:VCALENDAR
