BEGIN:VCALENDAR
VERSION:2.0
PRODID:-//ChamberMaster//Event Calendar 2.0//EN
METHOD:PUBLISH
X-PUBLISHED-TTL:P3D
REFRESH-INTERVAL:P3D
CALSCALE:GREGORIAN
BEGIN:VEVENT
DTSTART:20220219T210000Z
DTEND:20220219T230000Z
X-MICROSOFT-CDO-ALLDAYEVENT:FALSE
SUMMARY:Write It Down
DESCRIPTION:This is a free writing workshop to help you express you emotions. All are welcome especially if you have never experienced the fun writing can bring. The workshop's instructor will be Jordan O'Halloran
X-ALT-DESC;FMTTYPE=text/html:This is a free writing workshop to help you express you emotions. All are welcome especially if you have never experienced the fun writing can bring. The workshop&#39\;s instructor will be Jordan O&#39\;Halloran
LOCATION:Middletown Art Center 21456 Hwy 175 (on the corner of Hwy 20)
UID:e.2411.13961
SEQUENCE:3
DTSTAMP:20260424T232831Z
URL:http://lakecodev.chambermaster.com/events/details/write-it-down-02-19-2022-13961
END:VEVENT

END:VCALENDAR
