BEGIN:VCALENDAR
VERSION:2.0
PRODID:-//ChamberMaster//Event Calendar 2.0//EN
METHOD:PUBLISH
X-PUBLISHED-TTL:P3D
REFRESH-INTERVAL:P3D
CALSCALE:GREGORIAN
BEGIN:VEVENT
DTSTART:20211103T200000Z
DTEND:20211103T220000Z
X-MICROSOFT-CDO-ALLDAYEVENT:FALSE
SUMMARY:Watercolor Classes with Diana Liebe
DESCRIPTION:Join instructor Diana Liebe for Watercolor Classes every Wednesday at 1:00. Class size is limited so sign up early. Vax confirmation and mask required. Open to all ages 12 & up and for beginners to advanced
X-ALT-DESC;FMTTYPE=text/html:Join instructor Diana Liebe for Watercolor Classes every Wednesday at 1:00. Class size is limited so sign up early. Vax confirmation and mask required. Open to all ages 12 &amp\; up and for beginners to advanced
LOCATION:Main Street Gallery 325 N. Main St. Lakeport
UID:e.2411.13471
SEQUENCE:3
DTSTAMP:20260425T205912Z
URL:http://lakecodev.chambermaster.com/events/details/watercolor-classes-with-diana-liebe-13471
END:VEVENT

END:VCALENDAR
