BEGIN:VCALENDAR
VERSION:2.0
PRODID:-//ChamberMaster//Event Calendar 2.0//EN
METHOD:PUBLISH
X-PUBLISHED-TTL:P3D
REFRESH-INTERVAL:P3D
CALSCALE:GREGORIAN
BEGIN:VEVENT
DTSTART:20221008T170000Z
DTEND:20221008T230000Z
X-MICROSOFT-CDO-ALLDAYEVENT:FALSE
SUMMARY:Upper Lake Fall Festival
DESCRIPTION:Upper Lake Fall Festival to take place on Main Street in Upper Lake. Starting the event off with the Upper Lake High School Homecoming Parade. We will have arts & crafts vendors\, food vendors\, live music\, beer booth\, silent auction and family activities.
X-ALT-DESC;FMTTYPE=text/html:Upper Lake Fall Festival to take place on Main Street in Upper Lake. Starting the event off with the Upper Lake High School Homecoming Parade. We will have arts &amp\; crafts vendors\, food vendors\, live music\, beer booth\, silent auction and family activities.
LOCATION:Main Street\, Upper Lake
UID:e.2411.15472
SEQUENCE:3
DTSTAMP:20260424T021132Z
URL:http://lakecodev.chambermaster.com/events/details/upper-lake-fall-festival-15472
END:VEVENT

END:VCALENDAR
