BEGIN:VCALENDAR
VERSION:2.0
PRODID:-//ChamberMaster//Event Calendar 2.0//EN
METHOD:PUBLISH
X-PUBLISHED-TTL:P3D
REFRESH-INTERVAL:P3D
CALSCALE:GREGORIAN
BEGIN:VEVENT
DTSTART:20220821T033000Z
DTEND:20220821T043000Z
X-MICROSOFT-CDO-ALLDAYEVENT:FALSE
SUMMARY:Under the Stars
DESCRIPTION:Clear Lake State Park Under the Stars\n\nCampfire program will begin at 8:30 with a presentation by special guests from the Taylor Observatory.\n\nStargazing / observation of Perseid Meteor Shower to follow.
X-ALT-DESC;FMTTYPE=text/html:Clear Lake State Park Under the Stars<br />\nCampfire program will begin at 8:30 with a presentation by special guests from the Taylor Observatory.<br />\nStargazing / observation of Perseid Meteor Shower to follow.
LOCATION:Clear Lake State Park 53000 Soda Bay Rd Kelseyville
UID:e.2411.15477
SEQUENCE:3
DTSTAMP:20260423T092910Z
URL:http://lakecodev.chambermaster.com/events/details/under-the-stars-15477
END:VEVENT

END:VCALENDAR
