BEGIN:VCALENDAR
VERSION:2.0
PRODID:-//ChamberMaster//Event Calendar 2.0//EN
METHOD:PUBLISH
X-PUBLISHED-TTL:P3D
REFRESH-INTERVAL:P3D
CALSCALE:GREGORIAN
BEGIN:VEVENT
DTSTART:20211211T220000Z
DTEND:20211212T010000Z
X-MICROSOFT-CDO-ALLDAYEVENT:FALSE
SUMMARY:Toy Run
DESCRIPTION:FREE Toy Give-a-way - Lake County Motorcycle Councils toy run at the Lake County Fairgrounds - Come pick up toys for your kids
X-ALT-DESC;FMTTYPE=text/html:FREE Toy Give-a-way - Lake County Motorcycle Councils toy run at the Lake County Fairgrounds - Come pick up toys for your kids
LOCATION:Lake County Fairgrounds
UID:e.2411.13785
SEQUENCE:3
DTSTAMP:20260424T105256Z
URL:http://lakecodev.chambermaster.com/events/details/toy-run-13785
END:VEVENT

END:VCALENDAR
