BEGIN:VCALENDAR
VERSION:2.0
PRODID:-//ChamberMaster//Event Calendar 2.0//EN
METHOD:PUBLISH
X-PUBLISHED-TTL:P3D
REFRESH-INTERVAL:P3D
CALSCALE:GREGORIAN
BEGIN:VEVENT
DTSTART:20220623T183000Z
DTEND:20220623T200000Z
X-MICROSOFT-CDO-ALLDAYEVENT:FALSE
SUMMARY:Thrilling Thursdays
DESCRIPTION:Look\, learn\, and create together during fun interactive programs for kids of all ages and their parents/caregivers. The Museums of Lake County will be hosting free family-friendly activities this summer during June\, July\, and August at the Schoolhouse Museum site. These programs are sponsored by the Lower Lake Historical Preservation Committee - whose support helps pay for bus transportation for students and additional programming at this museum location. Drop-in this month for a series of farm-themed activities aimed at ages 2-7 including a fine motor skill activity to teach young children about cattle and farms\, a no-mess sensory art activity\, and a creative project.
X-ALT-DESC;FMTTYPE=text/html:Look\, learn\, and create together during fun interactive programs for kids of all ages and their parents/caregivers. The Museums of Lake County will be hosting free family-friendly activities this summer during June\, July\, and August at the Schoolhouse Museum site. These programs are sponsored by the Lower Lake Historical Preservation Committee - whose support helps pay for bus transportation for students and additional programming at this museum location. Drop-in this month for a series of farm-themed activities aimed at ages 2-7 including a fine motor skill activity to teach young children about cattle and farms\, a no-mess sensory art activity\, and a creative project.
LOCATION:Lower Lake Schoolhouse Museum 16435 Main St. Lower Lake
UID:e.2411.15132
SEQUENCE:3
DTSTAMP:20260423T154532Z
URL:http://lakecodev.chambermaster.com/events/details/thrilling-thursdays-15132
END:VEVENT

END:VCALENDAR
