BEGIN:VCALENDAR
VERSION:2.0
PRODID:-//ChamberMaster//Event Calendar 2.0//EN
METHOD:PUBLISH
X-PUBLISHED-TTL:P3D
REFRESH-INTERVAL:P3D
CALSCALE:GREGORIAN
BEGIN:VEVENT
DTSTART:20221006T230000Z
DTEND:20221007T040000Z
X-MICROSOFT-CDO-ALLDAYEVENT:FALSE
SUMMARY:Thirsty Thursday Live!
DESCRIPTION:Award Winning Wine by the Glass/Bottle! Food by Bad Ass BLT's Food Truck! Live Music with Blues Farm!
X-ALT-DESC;FMTTYPE=text/html:Award Winning Wine by the Glass/Bottle! Food by Bad Ass BLT&#39\;s Food Truck! Live Music with Blues Farm!
LOCATION:Fults Family Vineyards
UID:e.2411.15481
SEQUENCE:3
DTSTAMP:20260424T223504Z
URL:http://lakecodev.chambermaster.com/events/details/thirsty-thursday-live-10-06-2022-15481
END:VEVENT

END:VCALENDAR
