BEGIN:VCALENDAR
VERSION:2.0
PRODID:-//ChamberMaster//Event Calendar 2.0//EN
METHOD:PUBLISH
X-PUBLISHED-TTL:P3D
REFRESH-INTERVAL:P3D
CALSCALE:GREGORIAN
BEGIN:VEVENT
DTSTART:20211125T210000Z
DTEND:20211126T010000Z
X-MICROSOFT-CDO-ALLDAYEVENT:FALSE
SUMMARY:Thanksgiving at the Blue Wing Restaurant
DESCRIPTION:Thanksgiving at the Blue Wing has become a popular tradition for many.  Why not let us do the cooking and clean-up while you enjoy good food and drink in the company of family and friends.  Chef Pablo will the traditional turkey with trimmings plus a variety of other offerings   SEE MENU HERE.  Call the Blue Wing for details  and reservations at 707-275-2233.  Seatings will be at 1\, 3 and 5 PM.
X-ALT-DESC;FMTTYPE=text/html:Thanksgiving at the Blue Wing has become a popular tradition for many.&nbsp\; Why not let us do the cooking and clean-up while you enjoy good food and drink in the company of family and friends.&nbsp\; Chef Pablo will the traditional turkey with trimmings plus a variety of other offerings &ndash\; <em><strong><a href="https://secureservercdn.net/104.238.71.140/1hd.bbe.myftpupload.com/wp-content/uploads/2021/10/Thanksgiving-2021.jpg">SEE MENU HERE</a>.&nbsp\;</strong></em> Call the Blue Wing for details&nbsp\; and reservations at 707-275-2233.&nbsp\; Seatings will be at 1\, 3 and 5 PM.
LOCATION:
UID:e.2411.13467
SEQUENCE:3
DTSTAMP:20260426T041352Z
URL:http://lakecodev.chambermaster.com/events/details/thanksgiving-at-the-blue-wing-restaurant-13467
END:VEVENT

END:VCALENDAR
