BEGIN:VCALENDAR
VERSION:2.0
PRODID:-//ChamberMaster//Event Calendar 2.0//EN
METHOD:PUBLISH
X-PUBLISHED-TTL:P3D
REFRESH-INTERVAL:P3D
CALSCALE:GREGORIAN
BEGIN:VEVENT
DTSTART:20230512T210000Z
DTEND:20230513T030000Z
X-MICROSOFT-CDO-ALLDAYEVENT:FALSE
SUMMARY:Teacher Appreciation Day
DESCRIPTION:Special discounts on food and featured wines by the glass or bottle for all Lake County school employees\, plus live entertainment by Randy Hood\, 5:30 - 7:30 pm
X-ALT-DESC;FMTTYPE=text/html:Special discounts on food and featured wines by the glass or bottle for all Lake County school employees\, plus live entertainment by Randy Hood\, 5:30 - 7:30 pm
LOCATION:125 Park Street\, Lakeport\, CA 95453
UID:e.2411.17618
SEQUENCE:3
DTSTAMP:20260425T194413Z
URL:http://lakecodev.chambermaster.com/events/details/teacher-appreciation-day-17618
END:VEVENT

END:VCALENDAR
