BEGIN:VCALENDAR
VERSION:2.0
PRODID:-//ChamberMaster//Event Calendar 2.0//EN
METHOD:PUBLISH
X-PUBLISHED-TTL:P3D
REFRESH-INTERVAL:P3D
CALSCALE:GREGORIAN
BEGIN:VEVENT
DTSTART:20230805T000000Z
DTEND:20230805T030000Z
X-MICROSOFT-CDO-ALLDAYEVENT:FALSE
SUMMARY:Summer Vibes
DESCRIPTION:Join us for Summer Vibes August 4th from 5pm to 8pm. Stop by for our panoramic views and excellent wine but stay for the summer vibes and our third summer concert with music performed by Groovy Judy. Grillagan's Island will provide Pulled Pork Sliders & macaroni salad for $25! Please confirm your food reservation by July 24th. Summer Vibes is a complimentary event to be enjoyed by wine club members\, guests\, and the public.
X-ALT-DESC;FMTTYPE=text/html:Join us for Summer Vibes August 4th from 5pm to 8pm. Stop by for our panoramic views and excellent wine but stay for the summer vibes and our third summer concert with music performed by Groovy Judy. Grillagan&#39\;s Island will provide Pulled Pork Sliders &amp\; macaroni salad for $25! Please confirm your food reservation by July 24th. Summer Vibes is a complimentary event to be enjoyed by wine club members\, guests\, and the public.
LOCATION:Langtry Farms Vineyard & Winery 21000 Butts Canyon Road Middletown\, CA
UID:e.2411.17627
SEQUENCE:3
DTSTAMP:20260426T030444Z
URL:http://lakecodev.chambermaster.com/events/details/summer-vibes-08-04-2023-17627
END:VEVENT

END:VCALENDAR
