BEGIN:VCALENDAR
VERSION:2.0
PRODID:-//ChamberMaster//Event Calendar 2.0//EN
METHOD:PUBLISH
X-PUBLISHED-TTL:P3D
REFRESH-INTERVAL:P3D
CALSCALE:GREGORIAN
BEGIN:VEVENT
DTSTART:20220813T180000Z
DTEND:20220813T210000Z
X-MICROSOFT-CDO-ALLDAYEVENT:FALSE
SUMMARY:StoryWalk
DESCRIPTION:Read a story together on the StoryWalk Trail (less that a 1/4 mile walk). Feature Story - Giggle\, Giggle\, Quack. Bring a picnic o enjoy in the park.\n\nAll ages welcomed.
X-ALT-DESC;FMTTYPE=text/html:Read a story together on the StoryWalk Trail (less that a 1/4 mile walk). Feature Story - Giggle\, Giggle\, Quack. Bring a picnic o enjoy in the park.<br />\nAll ages welcomed.
LOCATION:Clear Lake State Park - Visitor Center 53000 Soda Bay Rd Kelseyville
UID:e.2411.15475
SEQUENCE:3
DTSTAMP:20260423T173300Z
URL:http://lakecodev.chambermaster.com/events/details/storywalk-15475
END:VEVENT

END:VCALENDAR
