BEGIN:VCALENDAR
VERSION:2.0
PRODID:-//ChamberMaster//Event Calendar 2.0//EN
METHOD:PUBLISH
X-PUBLISHED-TTL:P3D
REFRESH-INTERVAL:P3D
CALSCALE:GREGORIAN
BEGIN:VEVENT
DTSTART:20230513T180000Z
DTEND:20230513T220000Z
X-MICROSOFT-CDO-ALLDAYEVENT:FALSE
SUMMARY:Spring at the Ranch
DESCRIPTION:Craft vendors\, food vendors\, lead line horse rides\, picture with a pony\, kids activity area\, sensory space area. Lots of fun for everyone!!
X-ALT-DESC;FMTTYPE=text/html:Craft vendors\, food vendors\, lead line horse rides\, picture with a pony\, kids activity area\, sensory space area. Lots of fun for everyone!!
LOCATION:3050 Gaddy lane Kelseyville\, Ca
UID:e.2411.17531
SEQUENCE:3
DTSTAMP:20260426T031537Z
URL:http://lakecodev.chambermaster.com/events/details/spring-at-the-ranch-17531
END:VEVENT

END:VCALENDAR
