BEGIN:VCALENDAR
VERSION:2.0
PRODID:-//ChamberMaster//Event Calendar 2.0//EN
METHOD:PUBLISH
X-PUBLISHED-TTL:P3D
REFRESH-INTERVAL:P3D
CALSCALE:GREGORIAN
BEGIN:VEVENT
DTSTART:20210822T000000Z
DTEND:20210822T030000Z
X-MICROSOFT-CDO-ALLDAYEVENT:FALSE
SUMMARY:Six Sigma Ranch to Table Dinner- Club Event
DESCRIPTION:Ranch to Table Dinner featuring our meats and wines\, 4 courses\, $95 for members and $125 for non-members
X-ALT-DESC;FMTTYPE=text/html:Ranch to Table Dinner featuring our meats and wines\, 4 courses\, $95 for members and $125 for non-members
LOCATION:Six Sigma Ranch and Winery
UID:e.2411.13092
SEQUENCE:3
DTSTAMP:20260426T040055Z
URL:http://lakecodev.chambermaster.com/events/details/six-sigma-ranch-to-table-dinner-club-event-13092
END:VEVENT

END:VCALENDAR
