BEGIN:VCALENDAR
VERSION:2.0
PRODID:-//ChamberMaster//Event Calendar 2.0//EN
METHOD:PUBLISH
X-PUBLISHED-TTL:P3D
REFRESH-INTERVAL:P3D
CALSCALE:GREGORIAN
BEGIN:VEVENT
DTSTART:20211031T020000Z
DTEND:20211031T050000Z
X-MICROSOFT-CDO-ALLDAYEVENT:FALSE
SUMMARY:Roy Zimmerman Concert
DESCRIPTION:The perfect evening of music\, friends\, food\, wine and fun... and you are helping to support KPFZ at the Big Valley Grange #680 at 1510 Big Valley Rd. Lakeport. Intro act will be Herb Gura & Friends
X-ALT-DESC;FMTTYPE=text/html:The perfect evening of music\, friends\, food\, wine and fun... and you are helping to support KPFZ at the Big Valley Grange #680 at 1510 Big Valley Rd. Lakeport. Intro act will be Herb Gura &amp\; Friends
LOCATION:Big Valley Grange #680 1510 Big Valley Rd. Lakeport
UID:e.2411.13478
SEQUENCE:3
DTSTAMP:20260426T030752Z
URL:http://lakecodev.chambermaster.com/events/details/roy-zimmerman-concert-13478
END:VEVENT

END:VCALENDAR
