BEGIN:VCALENDAR
VERSION:2.0
PRODID:-//ChamberMaster//Event Calendar 2.0//EN
METHOD:PUBLISH
X-PUBLISHED-TTL:P3D
REFRESH-INTERVAL:P3D
CALSCALE:GREGORIAN
BEGIN:VEVENT
DTSTART:20220123T230000Z
DTEND:20220124T003000Z
X-MICROSOFT-CDO-ALLDAYEVENT:FALSE
SUMMARY:Rita Hosking Performs at Tallman Concert with Conversation
DESCRIPTION:Each fall and winter\, the Tallman Hotel hosts a series of monthly intimate and informal Sunday afternoon house concerts in the Meeting House next to the Hotel. Today we feature one of the most original country and folk singers and songwriters RITA HOSKING\, backed on banjo and dobro by SEAN FEDER.\n\nBecause of COVID precautions\, we will be limiting the audience to those with proof of vaccination. We will also take extra ventilation precautions in the Meeting House and limit audience size to allow for social distancing.\n\nTickets at $30 + tax can be purchased at EVENTBRITE.COM or by calling the Tallman Hotel reservation desk at 707-275-2244 ext. 0.\n\nNote on Rita Hosking:\n\nA descendant of Cornish miners\, Rita Hosking grew up with deep regard for folk music and the power of the voice.  In song and story\, she shares with the audience her upbringing in rural Shasta County and the old-time band of seasoned mountain characters that shaped her musically.
X-ALT-DESC;FMTTYPE=text/html:<p>Each fall and winter\, the Tallman Hotel hosts a series of monthly intimate and informal Sunday afternoon house concerts in the Meeting House next to the Hotel. Today we feature one of the most original country and folk singers and songwriters <em><strong><a href="https://www.youtube.com/watch?v=TN46yhjvOGQ">RITA HOSKING</a></strong></em>\, backed on banjo and dobro by SEAN FEDER.</p>\n\n<p>Because of COVID precautions\, we will be limiting the audience to those with proof of vaccination. We will also take extra ventilation precautions in the Meeting House and limit audience size to allow for social distancing.</p>\n\n<p>Tickets at $30 + tax can be purchased at <em><strong><a href="https://www.eventbrite.com/e/185314549807">EVENTBRITE.COM</a></strong></em> or by calling the Tallman Hotel reservation desk at 707-275-2244 ext. 0.</p>\n\n<p>Note on Rita Hosking:<br />\nA descendant of Cornish miners\, <em><a href="https://www.youtube.com/watch?v=TN46yhjvOGQ"><strong>Rita Hosking</strong></a></em> grew up with deep regard for folk music and the power of the voice.&nbsp\; In song and story\, she shares with the audience her upbringing in rural Shasta County and the old-time band of seasoned mountain characters that shaped her musically.</p>\n
LOCATION:
UID:e.2411.13470
SEQUENCE:3
DTSTAMP:20260424T155106Z
URL:http://lakecodev.chambermaster.com/events/details/rita-hosking-performs-at-tallman-concert-with-conversation-13470
END:VEVENT

END:VCALENDAR
