BEGIN:VCALENDAR
VERSION:2.0
PRODID:-//ChamberMaster//Event Calendar 2.0//EN
METHOD:PUBLISH
X-PUBLISHED-TTL:P3D
REFRESH-INTERVAL:P3D
CALSCALE:GREGORIAN
BEGIN:VEVENT
DTSTART:20220507T160000Z
DTEND:20220507T230000Z
X-MICROSOFT-CDO-ALLDAYEVENT:FALSE
SUMMARY:Renaissance Faire
DESCRIPTION:Konocti Christian Academy invites you to their\n\n15th Annual Lake County Renaissance Faire!\n\nJoin us for a walk back in time to the Renaissance Era with costume\, theater\, activities\, games\, food\, song\, and fun for the entire family!
X-ALT-DESC;FMTTYPE=text/html:Konocti Christian Academy invites you to their<br />\n15th Annual Lake County Renaissance Faire!<br />\nJoin us for a walk back in time to the Renaissance Era with costume\, theater\, activities\, games\, food\, song\, and fun for the entire family!
LOCATION:401 Martin St LaKeport
UID:e.2411.14231
SEQUENCE:3
DTSTAMP:20260424T165053Z
URL:http://lakecodev.chambermaster.com/events/details/renaissance-faire-14231
END:VEVENT

END:VCALENDAR
