BEGIN:VCALENDAR
VERSION:2.0
PRODID:-//ChamberMaster//Event Calendar 2.0//EN
METHOD:PUBLISH
X-PUBLISHED-TTL:P3D
REFRESH-INTERVAL:P3D
CALSCALE:GREGORIAN
BEGIN:VEVENT
DTSTART:20220416T030000Z
DTEND:20220416T065500Z
X-MICROSOFT-CDO-ALLDAYEVENT:FALSE
SUMMARY:REBELTHE BAY
DESCRIPTION:REBELTHE BAY will be rockin' the 80s\, nuwave\, rock and alternative at Twin Pine Casino & Hotel in the Grapevine Lounge Friday and Saturday from 9pm-1am. Masks are optional.
X-ALT-DESC;FMTTYPE=text/html:REBELTHE BAY will be rockin&#39\; the 80s\, nuwave\, rock and alternative at Twin Pine Casino &amp\; Hotel in the Grapevine Lounge Friday and Saturday from 9pm-1am. Masks are optional.
LOCATION:22223 Hwy 29 Middletown\, CA 95461
UID:e.2411.14310
SEQUENCE:3
DTSTAMP:20260423T212159Z
URL:http://lakecodev.chambermaster.com/events/details/rebelthe-bay-14310
END:VEVENT

END:VCALENDAR
