BEGIN:VCALENDAR
VERSION:2.0
PRODID:-//ChamberMaster//Event Calendar 2.0//EN
METHOD:PUBLISH
X-PUBLISHED-TTL:P3D
REFRESH-INTERVAL:P3D
CALSCALE:GREGORIAN
BEGIN:VEVENT
DTSTART:20230610T160000Z
DTEND:20230610T190000Z
X-MICROSOFT-CDO-ALLDAYEVENT:FALSE
SUMMARY:RCU Shred A Thon
DESCRIPTION:This summer\, RCU is hosting a Shred-a-Thon near you! Bring the documents you need shredded\, plus your e-Waste! Conservation Corps North Bay will be onsite at each event to collect electronics you no longer need for free. Saturday\, June 10th\, 9 a.m.-12 p.m. Lower Lake High School 9430 Lake Street As part of our commitment to the community\, each of our Shred-a-Thons will benefit a local non-profit. Our Lower Lake event will benefit Child Care Planning Council. Monetary donations welcome. Free Shred-a-Thon & e-Waste Collection Event! Lower Lake: June 10th Securely dispose of up to 3 boxes of documents. e-Waste (computers\, TVs\, etc.) will also be collected\, check out our website for what is accepted.
X-ALT-DESC;FMTTYPE=text/html:This summer\, RCU is hosting a Shred-a-Thon near you! Bring the documents you need shredded\, plus your e-Waste! Conservation Corps North Bay will be onsite at each event to collect electronics you no longer need for free. Saturday\, June 10th\, 9 a.m.-12 p.m. Lower Lake High School 9430 Lake Street As part of our commitment to the community\, each of our Shred-a-Thons will benefit a local non-profit. Our Lower Lake event will benefit Child Care Planning Council. Monetary donations welcome. Free Shred-a-Thon &amp\; e-Waste Collection Event! Lower Lake: June 10th Securely dispose of up to 3 boxes of documents. e-Waste (computers\, TVs\, etc.) will also be collected\, check out our website for what is accepted.
LOCATION:Lower Lake High Scholl 9430 Lake Street Lower Lake
UID:e.2411.17616
SEQUENCE:3
DTSTAMP:20260425T211246Z
URL:http://lakecodev.chambermaster.com/events/details/rcu-shred-a-thon-17616
END:VEVENT

END:VCALENDAR
