BEGIN:VCALENDAR
VERSION:2.0
PRODID:-//ChamberMaster//Event Calendar 2.0//EN
METHOD:PUBLISH
X-PUBLISHED-TTL:P3D
REFRESH-INTERVAL:P3D
CALSCALE:GREGORIAN
BEGIN:VEVENT
DTSTART:20230716T000000Z
DTEND:20230716T030000Z
X-MICROSOFT-CDO-ALLDAYEVENT:FALSE
SUMMARY:Ranch to Table Dinner
DESCRIPTION:Ranch to Table Dinner is a 4 coursed meal featuring Six Sigma Wines and ranch raised beef.
X-ALT-DESC;FMTTYPE=text/html:Ranch to Table Dinner is a 4 coursed meal featuring Six Sigma Wines and ranch raised beef.
LOCATION:Six Sigma Ranch and Winery 13372 Spruce Grove Rd Lower Lake\, CA 95457
UID:e.2411.15778
SEQUENCE:3
DTSTAMP:20260426T024846Z
URL:http://lakecodev.chambermaster.com/events/details/ranch-to-table-dinner-07-15-2023-15778
END:VEVENT

END:VCALENDAR
