BEGIN:VCALENDAR
VERSION:2.0
PRODID:-//ChamberMaster//Event Calendar 2.0//EN
METHOD:PUBLISH
X-PUBLISHED-TTL:P3D
REFRESH-INTERVAL:P3D
CALSCALE:GREGORIAN
BEGIN:VEVENT
DTSTART:20211019T200000Z
DTEND:20211019T230000Z
X-MICROSOFT-CDO-ALLDAYEVENT:FALSE
SUMMARY:Pastels Etc.
DESCRIPTION:Pastels classes are back at the Main Street Gallery 325 N. Main St. Lakeport 263-6658 on Tuesdays. Acrylics & other mediums are also included. Beginners & more advanced are welcome
X-ALT-DESC;FMTTYPE=text/html:Pastels classes are back at the Main Street Gallery 325 N. Main St. Lakeport 263-6658 on Tuesdays. Acrylics &amp\; other mediums are also included. Beginners &amp\; more advanced are welcome
LOCATION:Main Street Gallery 325 N. Main Street Lakeport 263-6658
UID:e.2411.13477
SEQUENCE:3
DTSTAMP:20260425T121427Z
URL:http://lakecodev.chambermaster.com/events/details/pastels-etc-13477
END:VEVENT

END:VCALENDAR
