BEGIN:VCALENDAR
VERSION:2.0
PRODID:-//ChamberMaster//Event Calendar 2.0//EN
METHOD:PUBLISH
X-PUBLISHED-TTL:P3D
REFRESH-INTERVAL:P3D
CALSCALE:GREGORIAN
BEGIN:VEVENT
DTSTART:20220902T000000Z
DTEND:20220904T040000Z
X-MICROSOFT-CDO-ALLDAYEVENT:FALSE
SUMMARY:Parking for Fair Fundraiser
DESCRIPTION:Park in the Lakeport Christian Center parking lot during the Lake County Fair for donation. All funds support Sponsoring Survivorship this year!
X-ALT-DESC;FMTTYPE=text/html:Park in the Lakeport Christian Center parking lot during the Lake County Fair for donation. All funds support Sponsoring Survivorship this year!
LOCATION:455 S Forbes Street Lakeport
UID:e.2411.15459
SEQUENCE:3
DTSTAMP:20260425T035845Z
URL:http://lakecodev.chambermaster.com/events/details/parking-for-fair-fundraiser-15459
END:VEVENT

END:VCALENDAR
