BEGIN:VCALENDAR
VERSION:2.0
PRODID:-//ChamberMaster//Event Calendar 2.0//EN
METHOD:PUBLISH
X-PUBLISHED-TTL:P3D
REFRESH-INTERVAL:P3D
CALSCALE:GREGORIAN
BEGIN:VEVENT
DTSTART:20210916T010000Z
DTEND:20210916T030000Z
X-MICROSOFT-CDO-ALLDAYEVENT:FALSE
SUMMARY:Obsidian Ridge Winemaker Dinner in Blue Wing Garden.
DESCRIPTION:Tonight Chef Pablo Aguilar has created a SPECIAL MENU to highlight the fine Lake County wines from the Obsidian Ridge Winery.  The event will take place under the shade of the sycamores in the garden between the Blue Wing and Tallman Hotel.   Obsidian owner PETER MOLNAR will be here to talk about the food and wine between courses and Paul Kemp will provide background music on the piano.  Tickets at $90 + tax ($80 for Obsidian Wine Club members) can be purchased online at EVENTBRITE.COM  or by calling the Tallman Hotel at 707-275-2244 ext. 0.
X-ALT-DESC;FMTTYPE=text/html:Tonight Chef Pablo Aguilar has created a SPECIAL MENU to highlight the fine Lake County wines from the Obsidian Ridge Winery.&nbsp\; The event will take place under the shade of the sycamores in the garden between the Blue Wing and Tallman Hotel.&nbsp\; &nbsp\;Obsidian owner PETER MOLNAR will be here to talk about the food and wine between courses and Paul Kemp will provide background music on the piano.&nbsp\; Tickets at $90 + tax ($80 for Obsidian Wine Club members) can be purchased online at EVENTBRITE.COM&nbsp\; or by calling the Tallman Hotel at 707-275-2244 ext. 0.
LOCATION:
UID:e.2411.13124
SEQUENCE:3
DTSTAMP:20260425T115433Z
URL:http://lakecodev.chambermaster.com/events/details/obsidian-ridge-winemaker-dinner-in-blue-wing-garden-13124
END:VEVENT

END:VCALENDAR
