BEGIN:VCALENDAR
VERSION:2.0
PRODID:-//ChamberMaster//Event Calendar 2.0//EN
METHOD:PUBLISH
X-PUBLISHED-TTL:P3D
REFRESH-INTERVAL:P3D
CALSCALE:GREGORIAN
BEGIN:VEVENT
DTSTART:20220109T020000Z
DTEND:20220109T040000Z
X-MICROSOFT-CDO-ALLDAYEVENT:FALSE
SUMMARY:MOVE! Opening Reception
DESCRIPTION:Opening Reception for MOVE! At MAC and on Zoom. Enjoy a new exhibit that speaks to the action: MOVE! Politically\, Spiritually\, Physically\, Compositionally. Hear from exhibiting the artists about their work from 6:30-8pm Join us @MAC - masking required indoors\, or register to join us on Zoom https://bit.ly/moveopening
X-ALT-DESC;FMTTYPE=text/html:Opening Reception for MOVE! At MAC and on Zoom. Enjoy a new exhibit that speaks to the action: MOVE! Politically\, Spiritually\, Physically\, Compositionally. Hear from exhibiting the artists about their work from 6:30-8pm Join us @MAC - masking required indoors\, or register to join us on Zoom https://bit.ly/moveopening
LOCATION:21456 State Hwy 175 Middletown\, CA 95461
UID:e.2411.13889
SEQUENCE:3
DTSTAMP:20260424T031349Z
URL:http://lakecodev.chambermaster.com/events/details/move-opening-reception-13889
END:VEVENT

END:VCALENDAR
