BEGIN:VCALENDAR
VERSION:2.0
PRODID:-//ChamberMaster//Event Calendar 2.0//EN
METHOD:PUBLISH
X-PUBLISHED-TTL:P3D
REFRESH-INTERVAL:P3D
CALSCALE:GREGORIAN
BEGIN:VEVENT
DTSTART:20220924T010000Z
DTEND:20220925T190000Z
X-MICROSOFT-CDO-ALLDAYEVENT:FALSE
SUMMARY:Mother May I?
DESCRIPTION:A guaranteed laugh a minute comedy about a woman and the meddling ghost of her mother! The show includes a glass of wine\, dinner and dessert. Charity fundraiser put on by Lake Family Resource Center to support Meals on Wheels. A night of fun to remember!
X-ALT-DESC;FMTTYPE=text/html:A guaranteed laugh a minute comedy about a woman and the meddling ghost of her mother! The show includes a glass of wine\, dinner and dessert. Charity fundraiser put on by Lake Family Resource Center to support Meals on Wheels. A night of fun to remember!
LOCATION:Lakeport Senior Center
UID:e.2411.15483
SEQUENCE:3
DTSTAMP:20260426T023643Z
URL:http://lakecodev.chambermaster.com/events/details/mother-may-i-15483
END:VEVENT

END:VCALENDAR
