BEGIN:VCALENDAR
VERSION:2.0
PRODID:-//ChamberMaster//Event Calendar 2.0//EN
METHOD:PUBLISH
X-PUBLISHED-TTL:P3D
REFRESH-INTERVAL:P3D
CALSCALE:GREGORIAN
BEGIN:VEVENT
DTSTART:20230216T194500Z
DTEND:20230216T210000Z
X-MICROSOFT-CDO-ALLDAYEVENT:FALSE
SUMMARY:Lunch Bunch Mixer
DESCRIPTION:This month's mixer will be hosted by the Lake County Friends of Mendocino College.\n\n\n\nThere will be a short informational presentations by Mendocino College/Lake Center\, MC Foundation\, Lake County Friends of MC\, and  introduction of students and scholarship recipients. Optional tour of Center following.
X-ALT-DESC;FMTTYPE=text/html:<p><span style="font-family:&quot\;Georgia&quot\;\,serif">This month&#39\;s mixer will be hosted by the Lake County Friends of Mendocino College.<br />\n<br />\nThere will be a short informational presentations by Mendocino College/Lake Center\, MC Foundation\, Lake County Friends of MC\, and&nbsp\; introduction of students and scholarship recipients. Optional tour of Center following.</span><o:p></o:p></p>\n
LOCATION:Mendocino College\, Lake Center - Round Room 2565 Parallel Dr Lakeport
UID:e.2411.15729
SEQUENCE:3
DTSTAMP:20260425T002109Z
URL:http://lakecodev.chambermaster.com/events/details/lunch-bunch-mixer-15729
END:VEVENT

END:VCALENDAR
