BEGIN:VCALENDAR
VERSION:2.0
PRODID:-//ChamberMaster//Event Calendar 2.0//EN
METHOD:PUBLISH
X-PUBLISHED-TTL:P3D
REFRESH-INTERVAL:P3D
CALSCALE:GREGORIAN
BEGIN:VEVENT
DTSTART:20210918T170000Z
DTEND:20210918T230000Z
X-MICROSOFT-CDO-ALLDAYEVENT:FALSE
SUMMARY:LucerneFest
DESCRIPTION:Lucerne's 1st Annual Craft Fair Local vendors\, food and music 9th Street and Hwy 20 10:00am - 4:00pm
X-ALT-DESC;FMTTYPE=text/html:Lucerne&#39\;s 1st Annual Craft Fair Local vendors\, food and music 9th Street and Hwy 20 10:00am - 4:00pm
LOCATION:9th and Hwy 20
UID:e.2411.13428
SEQUENCE:3
DTSTAMP:20260425T124216Z
URL:http://lakecodev.chambermaster.com/events/details/lucernefest-13428
END:VEVENT

END:VCALENDAR
