BEGIN:VCALENDAR
VERSION:2.0
PRODID:-//ChamberMaster//Event Calendar 2.0//EN
METHOD:PUBLISH
X-PUBLISHED-TTL:P3D
REFRESH-INTERVAL:P3D
CALSCALE:GREGORIAN
BEGIN:VEVENT
DTSTART:20230422T180000Z
DTEND:20230422T210000Z
X-MICROSOFT-CDO-ALLDAYEVENT:FALSE
SUMMARY:Lobster Boil Classic
DESCRIPTION:Join us for an unforgettable afternoon of indulgence as we host our first-ever Lobster Boil Classic at Langtry Farms. Satisfy your cravings with a delectable crustacean luncheon\, perfectly paired with our signature single-vineyard Genevieve Chardonnay\, available exclusively at our farm. Take in the stunning views of Guenoc Valley and the historic Langtry House Event Lawn\, the home of our intrepid founder\, Lillie Langtry. If weather permits\, we'll be hosting the event outdoors\, creating an idyllic atmosphere for you to enjoy your meal. Tickets are priced at $100 per person\, but our Winegrowers Club members will receive a special $20 discount when using their membership email during checkout. Don't miss this opportunity to experience an afternoon full of claws and Chardonnay with us. Secure your spot now and get ready for an unforgettable meal!
X-ALT-DESC;FMTTYPE=text/html:Join us for an unforgettable afternoon of indulgence as we host our first-ever Lobster Boil Classic at Langtry Farms. Satisfy your cravings with a delectable crustacean luncheon\, perfectly paired with our signature single-vineyard Genevieve Chardonnay\, available exclusively at our farm. Take in the stunning views of Guenoc Valley and the historic Langtry House Event Lawn\, the home of our intrepid founder\, Lillie Langtry. If weather permits\, we&#39\;ll be hosting the event outdoors\, creating an idyllic atmosphere for you to enjoy your meal. Tickets are priced at $100 per person\, but our Winegrowers Club members will receive a special $20 discount when using their membership email during checkout. Don&#39\;t miss this opportunity to experience an afternoon full of claws and Chardonnay with us. Secure your spot now and get ready for an unforgettable meal!
LOCATION:21000 Butts Canyon Road Middletown\, CA 95461
UID:e.2411.17172
SEQUENCE:3
DTSTAMP:20260426T035224Z
URL:http://lakecodev.chambermaster.com/events/details/lobster-boil-classic-17172
END:VEVENT

END:VCALENDAR
