BEGIN:VCALENDAR
VERSION:2.0
PRODID:-//ChamberMaster//Event Calendar 2.0//EN
METHOD:PUBLISH
X-PUBLISHED-TTL:P3D
REFRESH-INTERVAL:P3D
CALSCALE:GREGORIAN
BEGIN:VEVENT
DTSTART:20211210T010000Z
DTEND:20211210T030000Z
X-MICROSOFT-CDO-ALLDAYEVENT:FALSE
SUMMARY:Light Up a Life
DESCRIPTION:Light up a Life - A candle lighting ceremony of remembrance
X-ALT-DESC;FMTTYPE=text/html:Light up a Life - A candle lighting ceremony of remembrance
LOCATION:Bereavement center 1862 Parallel Drive Lakeport\, CA 95451
UID:e.2411.13822
SEQUENCE:3
DTSTAMP:20260425T155330Z
URL:http://lakecodev.chambermaster.com/events/details/light-up-a-life-13822
END:VEVENT

END:VCALENDAR
