BEGIN:VCALENDAR
VERSION:2.0
PRODID:-//ChamberMaster//Event Calendar 2.0//EN
METHOD:PUBLISH
X-PUBLISHED-TTL:P3D
REFRESH-INTERVAL:P3D
CALSCALE:GREGORIAN
BEGIN:VEVENT
DTSTART:20211214T153000Z
DTEND:20211214T163000Z
X-MICROSOFT-CDO-ALLDAYEVENT:FALSE
SUMMARY:LCCC Board Meeting
DESCRIPTION:LCCC Board Meeting are currently held via Zoom and are open to Chamber Members.\n\nIf you wish to attend\, please contact either Laura at laura@lakecochamber.com or Georgett at georgett@lakecochamber.com
X-ALT-DESC;FMTTYPE=text/html:LCCC Board Meeting are currently held via Zoom and are open to Chamber Members.<br />\nIf you wish to attend\, please contact either Laura at laura@lakecochamber.com or Georgett at georgett@lakecochamber.com
LOCATION:Zoom
UID:e.2411.13530
SEQUENCE:3
DTSTAMP:20260424T193856Z
URL:http://lakecodev.chambermaster.com/events/details/lccc-board-meeting-12-28-2021-13530
END:VEVENT

END:VCALENDAR
