BEGIN:VCALENDAR
VERSION:2.0
PRODID:-//ChamberMaster//Event Calendar 2.0//EN
METHOD:PUBLISH
X-PUBLISHED-TTL:P3D
REFRESH-INTERVAL:P3D
CALSCALE:GREGORIAN
BEGIN:VEVENT
DTSTART:20220818T010000Z
DTEND:20220818T032500Z
X-MICROSOFT-CDO-ALLDAYEVENT:FALSE
SUMMARY:Langtry Winemaker Dinner in Blue Wing Garden
DESCRIPTION:Each summer\, the Blue Wing features a series of special ticketed dinners in the garden between the Tallman Hotel and the Restaurant.  Tonight's dinner features the fine wines from the historic LANGTRY FARMS in Middletown.  Chef Pablo Aguillar has created a delicious FOUR COURSE MENU carefully paired with the fine Langtry wines.  Winemaker Melissa Hackett will be here to talk about Langtry and discuss the pairings.  Pianist Paul Kemp will provide the background music.\n\nTickets at $95 + tax ($85 for Langtry wine club members) are available online at EVENTBRITE.COM or by calling the Tallman Hotel at 707-275-2244 ext. 0.
X-ALT-DESC;FMTTYPE=text/html:<p>Each summer\, the Blue Wing features a series of special ticketed dinners in the garden between the Tallman Hotel and the Restaurant.&nbsp\; Tonight&rsquo\;s dinner features the fine wines from the historic <a href="https://langtryfarms.com/">LANGTRY FARMS</a> in Middletown.&nbsp\; Chef Pablo Aguillar has created a delicious <a href="https://tallmanhotel.com/wp-content/uploads/2022/07/Langtry-Menu-8-17-22.jpg">FOUR COURSE MENU</a> carefully paired with the fine Langtry wines.&nbsp\; Winemaker Melissa Hackett will be here to talk about Langtry and discuss the pairings.&nbsp\; Pianist Paul Kemp will provide the background music.</p>\n\n<p>Tickets at $95 + tax ($85 for Langtry wine club members) are available online at <a href="https://www.eventbrite.com/e/langtry-farms-winemaker-dinner-tickets-345141165517">EVENTBRITE.COM</a> or by calling the Tallman Hotel at 707-275-2244 ext. 0.</p>\n\n<p>&nbsp\;</p>\n
LOCATION:
UID:e.2411.14909
SEQUENCE:3
DTSTAMP:20260423T111226Z
URL:http://lakecodev.chambermaster.com/events/details/langtry-winemaker-dinner-in-blue-wing-garden-14909
END:VEVENT

END:VCALENDAR
