BEGIN:VCALENDAR
VERSION:2.0
PRODID:-//ChamberMaster//Event Calendar 2.0//EN
METHOD:PUBLISH
X-PUBLISHED-TTL:P3D
REFRESH-INTERVAL:P3D
CALSCALE:GREGORIAN
BEGIN:VEVENT
DTSTART:20220312T190000Z
DTEND:20220312T233000Z
X-MICROSOFT-CDO-ALLDAYEVENT:FALSE
SUMMARY:Lake County CTA Class - Middlertown
DESCRIPTION:The Certified Tourism Ambassador  (CTA) Program is a nationally recognized certification program for frontline visitor industry workers\, volunteers and anyone who wants to become an advocate for Lake County
X-ALT-DESC;FMTTYPE=text/html:The Certified Tourism Ambassador&trade\; (CTA) Program is a nationally recognized certification program for frontline visitor industry workers\, volunteers and anyone who wants to become an advocate for Lake County
LOCATION:Lake County Jazzercise 15642 Armstrong St Middletown
UID:e.2411.13874
SEQUENCE:3
DTSTAMP:20260426T024847Z
URL:http://lakecodev.chambermaster.com/events/details/lake-county-cta-class-middlertown-13874
END:VEVENT

END:VCALENDAR
