BEGIN:VCALENDAR
VERSION:2.0
PRODID:-//ChamberMaster//Event Calendar 2.0//EN
METHOD:PUBLISH
X-PUBLISHED-TTL:P3D
REFRESH-INTERVAL:P3D
CALSCALE:GREGORIAN
BEGIN:VEVENT
DTSTART:20221001T150000Z
DTEND:20221002T010000Z
X-MICROSOFT-CDO-ALLDAYEVENT:FALSE
SUMMARY:Konocti Challenge - The Final Ride
DESCRIPTION:So we're trying it one more time!  The 3rd time is the charm right?  Given that this is the final ride celebration we are going to be offering just 2 organized "nostalgia rides".  Riders can opt for the leisurely 40 mile course that winds through the resort and vineyard sections of north Lakeport.\n\n\n\nAnd for those who just want to have a wonderful casual ride with a few friends and family we have our 20 mile family fun ride. While less challenging than the others this 20 mile ride offers riders a very relaxing and picturesque view of Lake County and enough of a challenge for you to feel like you earned our world famous steak & chicken dinner when your done!\n\n\n\nGo to www.konoctichallenge.com for more information or to register for the ride.
X-ALT-DESC;FMTTYPE=text/html:<p><span style="font-size:14px\;"><span style="color: rgb(102\, 102\, 102)\; font-family: Arial\, Helvetica\, sans-serif\;">So we&#39\;re trying it one more time!&nbsp\; The 3rd time is the charm right?&nbsp\; Given that this is the final ride celebration we are going to be offering just 2 organized &quot\;nostalgia rides&quot\;.&nbsp\; Riders can opt for the leisurely&nbsp\;</span><strong style="color: rgb(102\, 102\, 102)\; font-family: Arial\, Helvetica\, sans-serif\; font-size: 12px\;"><a href="http://www.konoctichallenge.com/uploads/1/1/1/5/11153462/sc1168c_konocti_challenge_40_map_2019.pdf" style="text-decoration-line: none\; color: rgb(51\, 51\, 255) !important\;" target="_blank">40 mile course</a></strong><span style="color: rgb(102\, 102\, 102)\; font-family: Arial\, Helvetica\, sans-serif\;">&nbsp\;that winds through the resort and vineyard sections of north Lakeport.</span><br style="color: rgb(102\, 102\, 102)\; font-family: Arial\, Helvetica\, sans-serif\; font-size: 12px\;" />\n<br style="color: rgb(102\, 102\, 102)\; font-family: Arial\, Helvetica\, sans-serif\; font-size: 12px\;" />\n<span style="color: rgb(102\, 102\, 102)\; font-family: Arial\, Helvetica\, sans-serif\;">And for those who just want to have a wonderful casual ride with a few friends and family we have our&nbsp\;</span><a href="http://www.konoctichallenge.com/uploads/1/1/1/5/11153462/sc1168c_konocti_challenge_20_map_2019.pdf" style="text-decoration-line: none\; font-family: Arial\, Helvetica\, sans-serif\; font-size: 12px\; color: rgb(51\, 51\, 255) !important\;" target="_blank"><strong>20 mile&nbsp\;</strong><strong>family fun ride</strong></a><span style="color: rgb(102\, 102\, 102)\; font-family: Arial\, Helvetica\, sans-serif\;">. While less challenging than the others this 20 mile ride offers riders a very relaxing and picturesque view of Lake County and enough of a challenge for you to feel like you earned our world famous steak &amp\; chicken dinner when your done!</span><br />\n<br />\nGo to <strong>www.konoctichallenge.com </strong>for more information or to register for the ride.</span></p>\n
LOCATION:Skylark Shores Resort 1120 N Main St Lakeport
UID:e.2411.14399
SEQUENCE:3
DTSTAMP:20260424T074216Z
URL:http://lakecodev.chambermaster.com/events/details/konocti-challenge-the-final-ride-14399
END:VEVENT

END:VCALENDAR
