BEGIN:VCALENDAR
VERSION:2.0
PRODID:-//ChamberMaster//Event Calendar 2.0//EN
METHOD:PUBLISH
X-PUBLISHED-TTL:P3D
REFRESH-INTERVAL:P3D
CALSCALE:GREGORIAN
BEGIN:VEVENT
DTSTART:20220605T040000Z
DTEND:20220605T060000Z
X-MICROSOFT-CDO-ALLDAYEVENT:FALSE
SUMMARY:Junior Rangers Hike
DESCRIPTION:Junior Rangers\, ages 7-12\, will explore different subject areas related to cultural and natural resources via hands on activities and guided hikes. Junior Rangers will learn to become stewards for the land in a fun and engaging environment. This weeks topic is plant life.
X-ALT-DESC;FMTTYPE=text/html:Junior Rangers\, ages 7-12\, will explore different subject areas related to cultural and natural resources via hands on activities and guided hikes. Junior Rangers will learn to become stewards for the land in a fun and engaging environment. This weeks topic is plant life.
LOCATION:5300 Soda Bay Road\; meet @ Educational Pavilion Clear Lake State Park
UID:e.2411.15080
SEQUENCE:3
DTSTAMP:20260423T071054Z
URL:http://lakecodev.chambermaster.com/events/details/junior-rangers-hike-15080
END:VEVENT

END:VCALENDAR
