BEGIN:VCALENDAR
VERSION:2.0
PRODID:-//ChamberMaster//Event Calendar 2.0//EN
METHOD:PUBLISH
X-PUBLISHED-TTL:P3D
REFRESH-INTERVAL:P3D
CALSCALE:GREGORIAN
BEGIN:VEVENT
DTSTART:20230624T170000Z
DTEND:20230625T060000Z
X-MICROSOFT-CDO-ALLDAYEVENT:FALSE
SUMMARY:Junior Ranger
DESCRIPTION:Junior Rangers will explore different subject areas related to cultural and natural resources via hands on activities and guided hikes. Junior rangers will learn to become stewards for the land in a fun and engaging environment.
X-ALT-DESC;FMTTYPE=text/html:Junior Rangers will explore different subject areas related to cultural and natural resources via hands on activities and guided hikes. Junior rangers will learn to become stewards for the land in a fun and engaging environment.&nbsp\;
LOCATION:5300 Soda Bay Road\; meet @ the Educational Pavilion\, Clear Lake State Park
UID:e.2411.17648
SEQUENCE:3
DTSTAMP:20260425T194847Z
URL:http://lakecodev.chambermaster.com/events/details/junior-ranger-06-24-2023-17648
END:VEVENT

END:VCALENDAR
