BEGIN:VCALENDAR
VERSION:2.0
PRODID:-//ChamberMaster//Event Calendar 2.0//EN
METHOD:PUBLISH
X-PUBLISHED-TTL:P3D
REFRESH-INTERVAL:P3D
CALSCALE:GREGORIAN
BEGIN:VEVENT
DTSTART:20230313T210000Z
DTEND:20230313T220000Z
X-MICROSOFT-CDO-ALLDAYEVENT:FALSE
SUMMARY:Java & Jobs
DESCRIPTION:Hiring Event\n\nMeet local employers over a cup of coffee for a quick interview.\n\nBring lots of resumes!
X-ALT-DESC;FMTTYPE=text/html:Hiring Event<br />\nMeet local employers over a cup of coffee for a quick interview.<br />\nBring lots of resumes!
LOCATION:O'Meara Bros 901 Bevins St Lakeport
UID:e.2411.17087
SEQUENCE:3
DTSTAMP:20260425T225350Z
URL:http://lakecodev.chambermaster.com/events/details/java-jobs-17087
END:VEVENT

END:VCALENDAR
