BEGIN:VCALENDAR
VERSION:2.0
PRODID:-//ChamberMaster//Event Calendar 2.0//EN
METHOD:PUBLISH
X-PUBLISHED-TTL:P3D
REFRESH-INTERVAL:P3D
CALSCALE:GREGORIAN
BEGIN:VEVENT
DTSTART:20220827T170000Z
DTEND:20220827T220000Z
X-MICROSOFT-CDO-ALLDAYEVENT:FALSE
SUMMARY:International Overdose Awareness Day event
DESCRIPTION:Hope Rising-SafeRx and Lake County Behavioral Health services are hosting the second annual International Overdose Awareness Day event. The event will be in Keeling Park on Saturday August 27th\, from 10AM-3PMThis event aims at reducing stigma\, creating conversations around addiction with agencies and community members\, training community members in Narcan\, and educating on the science of addiction and Lake County substance use data. We also will be giving community members in attendance the opportunity to create a poster to honor the lives of loved ones lost to overdose.
X-ALT-DESC;FMTTYPE=text/html:Hope Rising-SafeRx and Lake County Behavioral Health services are hosting the second annual International Overdose Awareness Day event. The event will be in Keeling Park on Saturday August 27th\, from 10AM-3PMThis event aims at reducing stigma\, creating conversations around addiction with agencies and community members\, training community members in Narcan\, and educating on the science of addiction and Lake County substance use data. We also will be giving community members in attendance the opportunity to create a poster to honor the lives of loved ones lost to overdose.
LOCATION:Keeling Park\, Nice
UID:e.2411.15460
SEQUENCE:3
DTSTAMP:20260424T215052Z
URL:http://lakecodev.chambermaster.com/events/details/international-overdose-awareness-day-event-15460
END:VEVENT

END:VCALENDAR
