BEGIN:VCALENDAR
VERSION:2.0
PRODID:-//ChamberMaster//Event Calendar 2.0//EN
METHOD:PUBLISH
X-PUBLISHED-TTL:P3D
REFRESH-INTERVAL:P3D
CALSCALE:GREGORIAN
BEGIN:VEVENT
DTSTART:20220807T000000Z
DTEND:20220807T030000Z
X-MICROSOFT-CDO-ALLDAYEVENT:FALSE
SUMMARY:Hot August Nights
DESCRIPTION:These warm summer nights are perfect for cool\, crisp Sauvignon Blanc and hot music from one of Lake County's favorite DJs. We're bringing in DJ RKiE (www.facebook.com/djrkie)   a regular at the Brick Tavern in downtown Kelseyville   to heat up the Mercantile with his hoppin' dance tunes Aug. 6th & 13th. Come for the music\, and stay for the delicious eats (street tacos\, anyone?) and our fresh selection of Shannon wines straight from the source. Of course\, Wine Club members always get 30% off all bottles and wines by the glass. And there's no cover charge! Don't miss these blissed-out evenings at the Merc!
X-ALT-DESC;FMTTYPE=text/html:These warm summer nights are perfect for cool\, crisp Sauvignon Blanc and hot music from one of Lake County&#39\;s favorite DJs. We&#39\;re bringing in DJ RKiE (www.facebook.com/djrkie) &mdash\; a regular at the Brick Tavern in downtown Kelseyville &mdash\; to heat up the Mercantile with his hoppin&#39\; dance tunes Aug. 6th &amp\; 13th. Come for the music\, and stay for the delicious eats (street tacos\, anyone?) and our fresh selection of Shannon wines straight from the source. Of course\, Wine Club members always get 30% off all bottles and wines by the glass. And there&#39\;s no cover charge! Don&#39\;t miss these blissed-out evenings at the Merc!
LOCATION:Shannon Mercantile 4350 Thomas Drive Kelseyville
UID:e.2411.15461
SEQUENCE:3
DTSTAMP:20260423T072903Z
URL:http://lakecodev.chambermaster.com/events/details/hot-august-nights-15461
END:VEVENT

END:VCALENDAR
