BEGIN:VCALENDAR
VERSION:2.0
PRODID:-//ChamberMaster//Event Calendar 2.0//EN
METHOD:PUBLISH
X-PUBLISHED-TTL:P3D
REFRESH-INTERVAL:P3D
CALSCALE:GREGORIAN
BEGIN:VEVENT
DTSTART:20230429T170000Z
DTEND:20230429T210000Z
X-MICROSOFT-CDO-ALLDAYEVENT:FALSE
SUMMARY:Hope4Health
DESCRIPTION:Community-wide event with fun family-friendly activities\, giveaways\, food\, health screenings\, live music\, first responder vehicles\, play zone and more.
X-ALT-DESC;FMTTYPE=text/html:Community-wide event with fun family-friendly activities\, giveaways\, food\, health screenings\, live music\, first responder vehicles\, play zone and more.
LOCATION:Austin Park\, Clearlake
UID:e.2411.15713
SEQUENCE:3
DTSTAMP:20260425T164133Z
URL:http://lakecodev.chambermaster.com/events/details/hope4health-15713
END:VEVENT

END:VCALENDAR
