BEGIN:VCALENDAR
VERSION:2.0
PRODID:-//ChamberMaster//Event Calendar 2.0//EN
METHOD:PUBLISH
X-PUBLISHED-TTL:P3D
REFRESH-INTERVAL:P3D
CALSCALE:GREGORIAN
BEGIN:VEVENT
DTSTART:20211023T190000Z
DTEND:20211023T230000Z
X-MICROSOFT-CDO-ALLDAYEVENT:FALSE
SUMMARY:Harvest Celebration
DESCRIPTION:Wine Tasting\, BBQ Pork Sandwiches\, Live Music\, Cave Tours\, Fall Case Sale $20 Club Members/$30 Non-Members
X-ALT-DESC;FMTTYPE=text/html:Wine Tasting\, BBQ Pork Sandwiches\, Live Music\, Cave Tours\, Fall Case Sale $20 Club Members/$30 Non-Members
LOCATION:Brassfield Estate Winery 10915 High Valley Rd.\, Clearlake Oaks 95423
UID:e.2411.13476
SEQUENCE:3
DTSTAMP:20260425T184722Z
URL:http://lakecodev.chambermaster.com/events/details/harvest-celebration-13476
END:VEVENT

END:VCALENDAR
