BEGIN:VCALENDAR
VERSION:2.0
PRODID:-//ChamberMaster//Event Calendar 2.0//EN
METHOD:PUBLISH
X-PUBLISHED-TTL:P3D
REFRESH-INTERVAL:P3D
CALSCALE:GREGORIAN
BEGIN:VEVENT
DTSTART;VALUE=DATE:20211212
DTEND;VALUE=DATE:20211213
TRANSP:TRANSPARENT
X-MICROSOFT-CDO-ALLDAYEVENT:TRUE
SUMMARY:Hands Up Lake County 2021
DESCRIPTION:Applications for the Hands Up Lake County Business Competition are open from 4/1/21 - 6/30/21. Applicants must be a small business OR a start up\, at least 18 years of age\, and doing or planning to do business in Lake County w/store front or online. Visit the website for more information about the business competition. www.1team1dream.net $50\,000 in cash prizes will be awarded.
X-ALT-DESC;FMTTYPE=text/html:Applications for the Hands Up Lake County Business Competition are open from 4/1/21 - 6/30/21. Applicants must be a small business OR a start up\, at least 18 years of age\, and doing or planning to do business in Lake County w/store front or online. Visit the website for more information about the business competition. www.1team1dream.net $50\,000 in cash prizes will be awarded.
LOCATION:A gala is planned for December 12 at the Konocti Casino & Resort's new Event Center. Five applicants will be selected to advance to the final stage of the competition where they will present and pitch their business plan to a set of judges.
UID:e.2411.12802
SEQUENCE:3
DTSTAMP:20260424T231605Z
URL:http://lakecodev.chambermaster.com/events/details/hands-up-lake-county-2021-12802
END:VEVENT

END:VCALENDAR
