BEGIN:VCALENDAR
VERSION:2.0
PRODID:-//ChamberMaster//Event Calendar 2.0//EN
METHOD:PUBLISH
X-PUBLISHED-TTL:P3D
REFRESH-INTERVAL:P3D
CALSCALE:GREGORIAN
BEGIN:VEVENT
DTSTART:20210918T033000Z
DTEND:20210918T053000Z
X-MICROSOFT-CDO-ALLDAYEVENT:FALSE
SUMMARY:Guided Walk at Anderson Marsh State Park
DESCRIPTION:Guided Walk   8:30am   10:30am (2 hours)\n\nEnjoy a discovery hike around some of the trails at Anderson Marsh. Find out how the natural resources have helped people and wildlife thrive for millennia in the place that became a park. Trail is easy to moderate. There will be a 50 foot climb to Lewis Ridge then the trail follows along Cache Creek. Wear sturdy shoes and bring water. Meet at the bulletin board with the map by the parking lot.
X-ALT-DESC;FMTTYPE=text/html:<span style="font-size:14px\;"><span style="font-family:arial rounded mt bold\,sans-serif\;">Guided Walk&nbsp\;&nbsp\; 8:30am &ndash\; 10:30am (2 hours)</span><br />\n<span style="font-family:arial rounded mt bold\,sans-serif\;">Enjoy a discovery hike around some of the trails at Anderson Marsh. Find out how the natural resources have helped people and wildlife thrive for millennia in the place that became a park. Trail is easy to moderate. There will be a 50 foot climb to Lewis Ridge then the trail follows along Cache Creek. Wear sturdy shoes and bring water. Meet at the bulletin board with the map by the parking lot.</span></span>
LOCATION:Anderson State Park 8400 CA-53\, Lower Lake
UID:e.2411.13432
SEQUENCE:3
DTSTAMP:20260425T164133Z
URL:http://lakecodev.chambermaster.com/events/details/guided-walk-at-anderson-marsh-state-park-13432
END:VEVENT

END:VCALENDAR
