BEGIN:VCALENDAR
VERSION:2.0
PRODID:-//ChamberMaster//Event Calendar 2.0//EN
METHOD:PUBLISH
X-PUBLISHED-TTL:P3D
REFRESH-INTERVAL:P3D
CALSCALE:GREGORIAN
BEGIN:VEVENT
DTSTART:20221014T230000Z
DTEND:20221015T020000Z
X-MICROSOFT-CDO-ALLDAYEVENT:FALSE
SUMMARY:Friday Night Pizza @ The Mercantile
DESCRIPTION:Your new date night is Friday Night Pop-Ups at the Mercantile! We're partnering with Lake County faves Doughbaby Pizza (formerly Juicy's Pizza) to bring you the classically casual combo of pizza and world-class wine. Kick off your weekends right every Friday from October 7th through November 25th. We're staying open until 7pm for these fun Fridays\, so be sure to save the date and get on over to the Mercantile.
X-ALT-DESC;FMTTYPE=text/html:Your new date night is Friday Night Pop-Ups at the Mercantile! We&rsquo\;re partnering with Lake County faves Doughbaby Pizza (formerly Juicy&rsquo\;s Pizza) to bring you the classically casual combo of pizza and world-class wine. Kick off your weekends right every Friday from October 7th through November 25th. We&rsquo\;re staying open until 7pm for these fun Fridays\, so be sure to save the date and get on over to the Mercantile.
LOCATION:The Mercantile 4350 Thomas Drive Kelseyville
UID:e.2411.15541
SEQUENCE:3
DTSTAMP:20260424T085706Z
URL:http://lakecodev.chambermaster.com/events/details/friday-night-pizza-the-mercantile-15541
END:VEVENT

END:VCALENDAR
