BEGIN:VCALENDAR
VERSION:2.0
PRODID:-//ChamberMaster//Event Calendar 2.0//EN
METHOD:PUBLISH
X-PUBLISHED-TTL:P3D
REFRESH-INTERVAL:P3D
CALSCALE:GREGORIAN
BEGIN:VEVENT
DTSTART:20230409T020000Z
DTEND:20230409T040000Z
X-MICROSOFT-CDO-ALLDAYEVENT:FALSE
SUMMARY:FISHWRAP!
DESCRIPTION:What do you do when you are a struggling hard copy newspaper in a digital world? That is the dilemma presented by ?Fishwrap? by Ben Bromley. Our story revolves around one paper-the Independent- who is working to stay ahead of the competition\, as well as their jobs\, from the electronic news. They have problems to resolve: from hilarious typos in print to low circulation to ultimately still trying to bring hard news as journalists in an ever increasingly jaded society. This show is funny\, fast paced\, entertaining and a bit of a farce. It will leave you reaching for your local newspaper with a whole new appreciation.
X-ALT-DESC;FMTTYPE=text/html:What do you do when you are a struggling hard copy newspaper in a digital world? That is the dilemma presented by ?Fishwrap? by Ben Bromley. Our story revolves around one paper-the Independent- who is working to stay ahead of the competition\, as well as their jobs\, from the electronic news. They have problems to resolve: from hilarious typos in print to low circulation to ultimately still trying to bring hard news as journalists in an ever increasingly jaded society. This show is funny\, fast paced\, entertaining and a bit of a farce. It will leave you reaching for your local newspaper with a whole new appreciation.
LOCATION:Soper Reese Community Theatre
UID:e.2411.17181
SEQUENCE:3
DTSTAMP:20260425T163150Z
URL:http://lakecodev.chambermaster.com/events/details/fishwrap-04-08-2023-17181
END:VEVENT

END:VCALENDAR
