BEGIN:VCALENDAR
VERSION:2.0
PRODID:-//ChamberMaster//Event Calendar 2.0//EN
METHOD:PUBLISH
X-PUBLISHED-TTL:P3D
REFRESH-INTERVAL:P3D
CALSCALE:GREGORIAN
BEGIN:VEVENT
DTSTART:20211107T200000Z
DTEND:20211107T220000Z
X-MICROSOFT-CDO-ALLDAYEVENT:FALSE
SUMMARY:Fiddler's Jam at the Ely
DESCRIPTION:The regular monthly Fiddlers' Jam\, with lively music\, is held on the first Sunday of each month from 12 noon to 2 pm in the barn at the Ely.  Food and beverages will be available for sale. \n\n \n\nThe Ely Stage Stop & Country Museum is located at 9921 Soda Bay Road\, between Kit's Corner on Hwy 29 and the Riviera. The gates are open every week-end from 11 am to 3pm.  Look for the Museum Flag!
X-ALT-DESC;FMTTYPE=text/html:<span style="font-size:14px\;"><span style="color:#26282A\;"><span style="font-family:helvetica neue\;">The regular monthly Fiddlers&#39\; Jam\, with lively music\, is held on the first Sunday of each month from 12 noon to 2 pm in the barn at the Ely.&nbsp\; Food and beverages will be available for sale.&nbsp\;</span></span><br />\n&nbsp\;<br />\n<span style="color:#26282A\;"><span style="font-family:helvetica neue\;">The Ely Stage Stop &amp\; Country Museum is located at 9921 Soda Bay Road\, between Kit&#39\;s Corner on Hwy 29 and the Riviera. The gates are open every week-end from 11 am to 3pm.&nbsp\; Look for the Museum Flag!</span></span></span>
LOCATION:Ely Stage Stop & Country Museum 9921 Soda Bay Road\, Kelseyville
UID:e.2411.6653
SEQUENCE:3
DTSTAMP:20260425T185833Z
URL:http://lakecodev.chambermaster.com/events/details/fiddler-s-jam-at-the-ely-11-07-2021-6653
END:VEVENT

END:VCALENDAR
