BEGIN:VCALENDAR
VERSION:2.0
PRODID:-//ChamberMaster//Event Calendar 2.0//EN
METHOD:PUBLISH
X-PUBLISHED-TTL:P3D
REFRESH-INTERVAL:P3D
CALSCALE:GREGORIAN
BEGIN:VEVENT
DTSTART:20211205T013000Z
DTEND:20211205T043000Z
X-MICROSOFT-CDO-ALLDAYEVENT:FALSE
SUMMARY:Festival of Trees
DESCRIPTION:Join us for a Spectacular Party and Christmas tree auction benefitting Hospice Services of Lake County. Over 20 designed trees decorated by community members will be auctioned. Live music. Small plates of savory and sweets from local caterers will be served with a no host wine and beer bar.
X-ALT-DESC;FMTTYPE=text/html:Join us for a Spectacular Party and Christmas tree auction benefitting Hospice Services of Lake County. Over 20 designed trees decorated by community members will be auctioned. Live music. Small plates of savory and sweets from local caterers will be served with a no host wine and beer bar.
LOCATION:A special venue constructed adjacent to Sophie's Day Spa located at 3855 Main St. in Kelseyville.
UID:e.2411.13513
SEQUENCE:3
DTSTAMP:20260424T235938Z
URL:http://lakecodev.chambermaster.com/events/details/festival-of-trees-13513
END:VEVENT

END:VCALENDAR
