BEGIN:VCALENDAR
VERSION:2.0
PRODID:-//ChamberMaster//Event Calendar 2.0//EN
METHOD:PUBLISH
X-PUBLISHED-TTL:P3D
REFRESH-INTERVAL:P3D
CALSCALE:GREGORIAN
BEGIN:VEVENT
DTSTART:20220903T220000Z
DTEND:20220904T020000Z
X-MICROSOFT-CDO-ALLDAYEVENT:FALSE
SUMMARY:Fast Times Band @ The Mercantile
DESCRIPTION:Fast Times cover band specializes in music from the ultimate decade of decadence\, the 80s!!!! From A-Ha to The Cure\, from Madonna to Young MC\, every song is an instantly recognizable hit guaranteed to get you on your feet and dancing. From new wave and synth-pop to arena rock and hair metal\, Fast Times 80s cover band plays every song with a dance beat that you cannot resist. Juicy's Pizza will be on site serving up some delicious slices!
X-ALT-DESC;FMTTYPE=text/html:Fast Times cover band specializes in music from the ultimate decade of decadence\, the 80s!!!! From A-Ha to The Cure\, from Madonna to Young MC\, every song is an instantly recognizable hit guaranteed to get you on your feet and dancing. From new wave and synth-pop to arena rock and hair metal\, Fast Times 80s cover band plays every song with a dance beat that you cannot resist. Juicy&#39\;s Pizza will be on site serving up some delicious slices!
LOCATION:The Mercantile 4350 Thomas Drive Kelseyville
UID:e.2411.15465
SEQUENCE:3
DTSTAMP:20260425T130421Z
URL:http://lakecodev.chambermaster.com/events/details/fast-times-band-the-mercantile-15465
END:VEVENT

END:VCALENDAR
