BEGIN:VCALENDAR
VERSION:2.0
PRODID:-//ChamberMaster//Event Calendar 2.0//EN
METHOD:PUBLISH
X-PUBLISHED-TTL:P3D
REFRESH-INTERVAL:P3D
CALSCALE:GREGORIAN
BEGIN:VEVENT
DTSTART:20210408T203000Z
DTEND:20210408T230000Z
X-MICROSOFT-CDO-ALLDAYEVENT:FALSE
SUMMARY:EV Day
DESCRIPTION:Come see a few of the Lake County Electric Vehicles\, show yours if possible...As this is at a winery\, possible wine tasting.
X-ALT-DESC;FMTTYPE=text/html:Come see a few of the Lake County Electric Vehicles\, show yours if possible...As this is at a winery\, possible wine tasting.
LOCATION:Smiling Dogs Ranch 6675 Kelsey Creek Dr. Kelseyville\, CA
UID:e.2411.12825
SEQUENCE:3
DTSTAMP:20260426T025650Z
URL:http://lakecodev.chambermaster.com/events/details/ev-day-12825
END:VEVENT

END:VCALENDAR
