BEGIN:VCALENDAR
VERSION:2.0
PRODID:-//ChamberMaster//Event Calendar 2.0//EN
METHOD:PUBLISH
X-PUBLISHED-TTL:P3D
REFRESH-INTERVAL:P3D
CALSCALE:GREGORIAN
BEGIN:VEVENT
DTSTART:20230408T180000Z
DTEND:20230408T210000Z
X-MICROSOFT-CDO-ALLDAYEVENT:FALSE
SUMMARY:Easter Eggstravaganza
DESCRIPTION:Annual Easter Eggstravaganza! Hop on over to Twin Pine Casino & Hotel for our Easter Eggstravaganza! Bring out the whole family to enjoy kids' activities\, Easter baskets (while supplies last) jump houses\, and pictures with the Easter Bunny! Don't miss out on the fun\, it starts at 11 AM.
X-ALT-DESC;FMTTYPE=text/html:Annual Easter Eggstravaganza! Hop on over to Twin Pine Casino &amp\; Hotel for our Easter Eggstravaganza! Bring out the whole family to enjoy kids&#39\; activities\, Easter baskets (while supplies last) jump houses\, and pictures with the Easter Bunny! Don&rsquo\;t miss out on the fun\, it starts at 11 AM.
LOCATION:22223 Highway 29 Twin Pine Casino & Hotel Event Center Middletown\, Ca
UID:e.2411.17157
SEQUENCE:3
DTSTAMP:20260425T155329Z
URL:http://lakecodev.chambermaster.com/events/details/easter-eggstravaganza-04-08-2023-17157
END:VEVENT

END:VCALENDAR
